BEGIN:VCALENDAR
VERSION:2.0
PRODID:researchseminars.org
CALSCALE:GREGORIAN
X-WR-CALNAME:researchseminars.org
BEGIN:VEVENT
SUMMARY:Angela Tabiri (African Institute for Mathematical Sciences Ghana)
DTSTART:20251210T170000Z
DTEND:20251210T180000Z
DTSTAMP:20260423T005849Z
UID:TQFT/159
DESCRIPTION:Title: <a href="https://researchseminars.org/talk/TQFT/159/">D
 ecomposable surfaces and plane curves which are quantum homogeneous spaces
 </a>\nby Angela Tabiri (African Institute for Mathematical Sciences Ghana)
  as part of Topological Quantum Field Theory Club (IST\, Lisbon)\n\n\nAbst
 ract\nDecomposable plane curves of degree up to 5 were shown to be quantum
  homogeneous spaces by Brown and Tabiri. It was conjectured that all decom
 posable plane curves of any degree are quantum homogeneous spaces. In this
  talk\, we will discuss recent results which show that decomposable surfac
 es and plane curves of any degree are quantum homogeneous spaces. Other al
 gebras such as the reduced algebra will be constructed and its properties 
 discussed.\n
LOCATION:https://researchseminars.org/talk/TQFT/159/
END:VEVENT
END:VCALENDAR
