BEGIN:VCALENDAR
VERSION:2.0
PRODID:researchseminars.org
CALSCALE:GREGORIAN
X-WR-CALNAME:researchseminars.org
BEGIN:VEVENT
SUMMARY:Monica Vazirani (University of California\, Davis)
DTSTART:20240717T160000Z
DTEND:20240717T170000Z
DTSTAMP:20260423T024659Z
UID:TQFT/121
DESCRIPTION:Title: <a href="https://researchseminars.org/talk/TQFT/121/">S
 keins on tori</a>\nby Monica Vazirani (University of California\, Davis) a
 s part of Topological Quantum Field Theory Club (IST\, Lisbon)\n\n\nAbstra
 ct\nWe study skeins on the 2-torus and 3-torus via the representation theo
 ry of the double affine Hecke algebra of type A and its connection to quan
 tum D-modules. As an application we can compute the dimension of the gener
 ic $SL_N$- and $GL_N$-skein module of the 3-torus for arbitrary N. This is
  joint work with Sam Gunningham and David Jordan.\n
LOCATION:https://researchseminars.org/talk/TQFT/121/
END:VEVENT
END:VCALENDAR
