BEGIN:VCALENDAR
VERSION:2.0
PRODID:researchseminars.org
CALSCALE:GREGORIAN
X-WR-CALNAME:researchseminars.org
BEGIN:VEVENT
SUMMARY:Eric Katz (Ohio State University)
DTSTART:20210625T143000Z
DTEND:20210625T153000Z
DTSTAMP:20260422T172405Z
UID:TGiZ/30
DESCRIPTION:Title: <a href="https://researchseminars.org/talk/TGiZ/30/">Co
 mbinatorial and p-adic iterated integrals</a>\nby Eric Katz (Ohio State Un
 iversity) as part of Tropical Geometry in Frankfurt/Zoom TGiF/Z\n\n\nAbstr
 act\nThe classical operations of algebraic geometry often have combinatori
 al analogues. We will discuss the combinatorial analogue of Chen’s itera
 ted integrals. These have a richer\, non-abelian structure than classical 
 integrals. We will describe the tropical analogue of the unipotent Torelli
  theorem of Hain and Pulte and make connections between iterated integrals
  and monodromy with applications to p-adic integration.\n
LOCATION:https://researchseminars.org/talk/TGiZ/30/
END:VEVENT
END:VCALENDAR
