BEGIN:VCALENDAR
VERSION:2.0
PRODID:researchseminars.org
CALSCALE:GREGORIAN
X-WR-CALNAME:researchseminars.org
BEGIN:VEVENT
SUMMARY:Alex Nabutovsky (Toronto)
DTSTART:20201109T170000Z
DTEND:20201109T180000Z
DTSTAMP:20260423T024657Z
UID:TG_ET/7
DESCRIPTION:Title: <a href="https://researchseminars.org/talk/TG_ET/7/">Is
 operimetric inequality for Hausdorff content and some of its applications<
 /a>\nby Alex Nabutovsky (Toronto) as part of Topology and geometry: extrem
 al and typical\n\n\nAbstract\nWe will discuss the isoperimetric inequality
  for Hausdorff content and compact metric spaces in (possibly infinite-dim
 ensional) Banach spaces. We will also discuss some of its implications for
  systolic geometry\, in particular\, systolic inequalities of a new type t
 hat are true for much wider classes of non-simply connected Riemannian man
 ifolds than Gromov’s classical systolic inequality.\n\nJoint work with Y
 . Liokumovich\, B. Lishak\, and R. Rotman.\n
LOCATION:https://researchseminars.org/talk/TG_ET/7/
END:VEVENT
END:VCALENDAR
