BEGIN:VCALENDAR
VERSION:2.0
PRODID:researchseminars.org
CALSCALE:GREGORIAN
X-WR-CALNAME:researchseminars.org
BEGIN:VEVENT
SUMMARY:Mark Pengitore (Ohio State)
DTSTART:20200914T160000Z
DTEND:20200914T170000Z
DTSTAMP:20260423T024612Z
UID:TG_ET/3
DESCRIPTION:Title: <a href="https://researchseminars.org/talk/TG_ET/3/">Co
 arse embeddings and homological filling functions</a>\nby Mark Pengitore (
 Ohio State) as part of Topology and geometry: extremal and typical\n\n\nAb
 stract\nIn this talk\, we will relate homological filling functions and th
 e existence of coarse embeddings. In particular\, we will demonstrate that
  a coarse embedding of a group into a group of geometric dimension 2 induc
 es an inequality on homological Dehn functions in dimension 2. As an appli
 cation of this\, we are able to show that if a finitely presented group co
 arsely embeds into a hyperbolic group of geometric dimension 2\, then it i
 s hyperbolic. Another application is a characterization of subgroups of gr
 oups with quadratic Dehn function. If there is enough time\, we will talk 
 about various higher dimensional generalizations of our main result.\n
LOCATION:https://researchseminars.org/talk/TG_ET/3/
END:VEVENT
END:VCALENDAR
