BEGIN:VCALENDAR
VERSION:2.0
PRODID:researchseminars.org
CALSCALE:GREGORIAN
X-WR-CALNAME:researchseminars.org
BEGIN:VEVENT
SUMMARY:Alberto Elduque
DTSTART:20210924T135000Z
DTEND:20210924T143000Z
DTSTAMP:20260423T022630Z
UID:TCRT2021/59
DESCRIPTION:Title: <a href="https://researchseminars.org/talk/TCRT2021/59/
 ">Non-group gradings on simple Lie algebras</a>\nby Alberto Elduque as par
 t of Trends in Combinatorial Ring Theory\n\n\nAbstract\n<a href="http://ww
 w.math.bas.bg/algebra/tcrt2021/pdf/Abstract_Elduque.pdf" target="_blank">\
 nhttp://www.math.bas.bg/algebra/tcrt2021/pdf/Abstract_Elduque.pdf\n
LOCATION:https://researchseminars.org/talk/TCRT2021/59/
END:VEVENT
END:VCALENDAR
