BEGIN:VCALENDAR
VERSION:2.0
PRODID:researchseminars.org
CALSCALE:GREGORIAN
X-WR-CALNAME:researchseminars.org
BEGIN:VEVENT
SUMMARY:Elitza Hristova
DTSTART:20210924T081000Z
DTEND:20210924T083500Z
DTSTAMP:20260423T022629Z
UID:TCRT2021/53
DESCRIPTION:Title: <a href="https://researchseminars.org/talk/TCRT2021/53/
 ">Hilbert series and invariant theory of symplectic and orthogonal groups<
 /a>\nby Elitza Hristova as part of Trends in Combinatorial Ring Theory\n\n
 \nAbstract\n<a href="http://www.math.bas.bg/algebra/tcrt2021/pdf/Abstract_
 Hristova.pdf" target="_blank">\nhttp://www.math.bas.bg/algebra/tcrt2021/pd
 f/Abstract_Hristova.pdf\n
LOCATION:https://researchseminars.org/talk/TCRT2021/53/
END:VEVENT
END:VCALENDAR
