BEGIN:VCALENDAR
VERSION:2.0
PRODID:researchseminars.org
CALSCALE:GREGORIAN
X-WR-CALNAME:researchseminars.org
BEGIN:VEVENT
SUMMARY:Felipe Yukihide Yasumura
DTSTART:20210923T161000Z
DTEND:20210923T163500Z
DTSTAMP:20260423T024426Z
UID:TCRT2021/48
DESCRIPTION:Title: <a href="https://researchseminars.org/talk/TCRT2021/48/
 ">Determining graded-simple algebras by their graded polynomial identities
 </a>\nby Felipe Yukihide Yasumura as part of Trends in Combinatorial Ring 
 Theory\n\n\nAbstract\n<a href="http://www.math.bas.bg/algebra/tcrt2021/pdf
 /Abstract_Yasumura.pdf" target="_blank">\nhttp://www.math.bas.bg/algebra/t
 crt2021/pdf/Abstract_Yasumura.pdf\n
LOCATION:https://researchseminars.org/talk/TCRT2021/48/
END:VEVENT
END:VCALENDAR
