BEGIN:VCALENDAR
VERSION:2.0
PRODID:researchseminars.org
CALSCALE:GREGORIAN
X-WR-CALNAME:researchseminars.org
BEGIN:VEVENT
SUMMARY:Matej Bresar
DTSTART:20210921T115000Z
DTEND:20210921T123000Z
DTSTAMP:20260423T022630Z
UID:TCRT2021/16
DESCRIPTION:Title: <a href="https://researchseminars.org/talk/TCRT2021/16/
 ">Zero product determined algebras</a>\nby Matej Bresar as part of Trends 
 in Combinatorial Ring Theory\n\n\nAbstract\n<a href="http://www.math.bas.b
 g/algebra/tcrt2021/pdf/Abstract_Bresar.pdf" target="_blank">\nhttp://www.m
 ath.bas.bg/algebra/tcrt2021/pdf/Abstract_Bresar.pdf\n
LOCATION:https://researchseminars.org/talk/TCRT2021/16/
END:VEVENT
END:VCALENDAR
