BEGIN:VCALENDAR
VERSION:2.0
PRODID:researchseminars.org
CALSCALE:GREGORIAN
X-WR-CALNAME:researchseminars.org
BEGIN:VEVENT
SUMMARY:Pavel Putrov (ICTP)
DTSTART:20230411T140000Z
DTEND:20230411T150000Z
DTSTAMP:20260423T021135Z
UID:SymSem/34
DESCRIPTION:Title: <a href="https://researchseminars.org/talk/SymSem/34/">
 Non-invertible symmetries and mixed gravitational anomalies</a>\nby Pavel 
 Putrov (ICTP) as part of Symmetry Seminar\n\n\nAbstract\nIn my talk I will
  describe how a presence of a mixed anomaly between a global symmetry and 
 gravity can be traded off for non-invertibility of the charge operators. S
 pecifically\, I will consider the cases of U(1) and Z4 symmetries (which i
 nclude fermion parity) in 4d. I will also comment on the relevance for the
  Standard Model. The talk is based on a joint work with Juven Wang.\n
LOCATION:https://researchseminars.org/talk/SymSem/34/
END:VEVENT
END:VCALENDAR
