BEGIN:VCALENDAR
VERSION:2.0
PRODID:researchseminars.org
CALSCALE:GREGORIAN
X-WR-CALNAME:researchseminars.org
BEGIN:VEVENT
SUMMARY:Ho Tat Lam (MIT)
DTSTART:20220412T150000Z
DTEND:20220412T160000Z
DTSTAMP:20260423T021029Z
UID:SymSem/3
DESCRIPTION:Title: <a href="https://researchseminars.org/talk/SymSem/3/">N
 on-invertible Condensation\, Duality and Triality Defects in 3+1d</a>\nby 
 Ho Tat Lam (MIT) as part of Symmetry Seminar\n\nAbstract: TBA\n
LOCATION:https://researchseminars.org/talk/SymSem/3/
END:VEVENT
END:VCALENDAR
