BEGIN:VCALENDAR
VERSION:2.0
PRODID:researchseminars.org
CALSCALE:GREGORIAN
X-WR-CALNAME:researchseminars.org
BEGIN:VEVENT
SUMMARY:Dmitri Vassilevich
DTSTART:20210520T160000Z
DTEND:20210520T170000Z
DTSTAMP:20260423T005836Z
UID:SpeGeo21/3
DESCRIPTION:Title: <a href="https://researchseminars.org/talk/SpeGeo21/3/"
 >Properties and applications of the heat kernel expansion.</a>\nby Dmitri 
 Vassilevich as part of Geometry through spectral functionals\n\nAbstract: 
 TBA\n
LOCATION:https://researchseminars.org/talk/SpeGeo21/3/
END:VEVENT
END:VCALENDAR
