BEGIN:VCALENDAR
VERSION:2.0
PRODID:researchseminars.org
CALSCALE:GREGORIAN
X-WR-CALNAME:researchseminars.org
BEGIN:VEVENT
SUMMARY:Matthias Chan (University of Auckland)
DTSTART:20260415T070000Z
DTEND:20260415T080000Z
DTSTAMP:20260423T034445Z
UID:SiN/60
DESCRIPTION:Title: <a href="https://researchseminars.org/talk/SiN/60/">$(P
 _k)$-Closed Groups Acting on Trees</a>\nby Matthias Chan (University of Au
 ckland) as part of Symmetry in Newcastle\n\nAbstract: TBA\n
LOCATION:https://researchseminars.org/talk/SiN/60/
END:VEVENT
END:VCALENDAR
