BEGIN:VCALENDAR
VERSION:2.0
PRODID:researchseminars.org
CALSCALE:GREGORIAN
X-WR-CALNAME:researchseminars.org
BEGIN:VEVENT
SUMMARY:Merlin Incerti-Medici (Universität Wien)
DTSTART:20240125T070000Z
DTEND:20240125T080000Z
DTSTAMP:20260423T053134Z
UID:SiN/57
DESCRIPTION:Title: <a href="https://researchseminars.org/talk/SiN/57/">Aut
 omorphism groups of cocompact CAT(0) cube complexes</a>\nby Merlin Incerti
 -Medici (Universität Wien) as part of Symmetry in Newcastle\n\n\nAbstract
 \nGiven a cocompact CAT(0) cube complex\, we study the group of its cubica
 l isometries\, which frequently forms a non-discrete tdlc group. We presen
 t a method to study these groups that is focused on our ability to underst
 and the stabilizer subgroups. We demonstrate the potency of this method by
  introducing a finite\, topologically generating set and discuss an import
 ant simple subgroup. If there is time\, we discuss some open questions reg
 arding the placement of these groups among non-discrete tdlc groups.\n
LOCATION:https://researchseminars.org/talk/SiN/57/
END:VEVENT
END:VCALENDAR
