BEGIN:VCALENDAR
VERSION:2.0
PRODID:researchseminars.org
CALSCALE:GREGORIAN
X-WR-CALNAME:researchseminars.org
BEGIN:VEVENT
SUMMARY:Karin Baur (University of Leeds)
DTSTART:20200925T152000Z
DTEND:20200925T155000Z
DTSTAMP:20260423T024452Z
UID:SheRepTh/16
DESCRIPTION:Title: <a href="https://researchseminars.org/talk/SheRepTh/16/
 ">ROOM 3: Orbifold diagrams and skew group categories</a>\nby Karin Baur (
 University of Leeds) as part of Sherbrooke Meeting on Representation Theor
 y of Algebras\, Corona Edition (fully online)\n\nAbstract: TBA\n
LOCATION:https://researchseminars.org/talk/SheRepTh/16/
END:VEVENT
END:VCALENDAR
