BEGIN:VCALENDAR
VERSION:2.0
PRODID:researchseminars.org
CALSCALE:GREGORIAN
X-WR-CALNAME:researchseminars.org
BEGIN:VEVENT
SUMMARY:Job D. Rock (Hausdorff Research Institute for Mathematics)
DTSTART:20200925T151000Z
DTEND:20200925T154000Z
DTSTAMP:20260423T024517Z
UID:SheRepTh/15
DESCRIPTION:Title: <a href="https://researchseminars.org/talk/SheRepTh/15/
 ">ROOM 2: Pointwise Finite-Dimensional Representations of the Circle</a>\n
 by Job D. Rock (Hausdorff Research Institute for Mathematics) as part of S
 herbrooke Meeting on Representation Theory of Algebras\, Corona Edition (f
 ully online)\n\nAbstract: TBA\n
LOCATION:https://researchseminars.org/talk/SheRepTh/15/
END:VEVENT
END:VCALENDAR
