BEGIN:VCALENDAR
VERSION:2.0
PRODID:researchseminars.org
CALSCALE:GREGORIAN
X-WR-CALNAME:researchseminars.org
BEGIN:VEVENT
SUMMARY:Claudio Marchi (University of Manchester)
DTSTART:20220127T150000Z
DTEND:20220127T170000Z
DTSTAMP:20260423T022631Z
UID:SemGrpRep/4
DESCRIPTION:Title: <a href="https://researchseminars.org/talk/SemGrpRep/4/
 ">Picard groups for blocks with normal defect group</a>\nby Claudio Marchi
  (University of Manchester) as part of Seminar Groups and Representations\
 n\nAbstract: TBA\n
LOCATION:https://researchseminars.org/talk/SemGrpRep/4/
END:VEVENT
END:VCALENDAR
