BEGIN:VCALENDAR
VERSION:2.0
PRODID:researchseminars.org
CALSCALE:GREGORIAN
X-WR-CALNAME:researchseminars.org
BEGIN:VEVENT
SUMMARY:William Murphy (City\, University of London)
DTSTART:20220113T150000Z
DTEND:20220113T170000Z
DTSTAMP:20260423T024426Z
UID:SemGrpRep/2
DESCRIPTION:Title: <a href="https://researchseminars.org/talk/SemGrpRep/2/
 ">The first Hochschild cohomology of blocks of finite group algebras</a>\n
 by William Murphy (City\, University of London) as part of Seminar Groups 
 and Representations\n\nAbstract: TBA\n
LOCATION:https://researchseminars.org/talk/SemGrpRep/2/
END:VEVENT
END:VCALENDAR
