BEGIN:VCALENDAR
VERSION:2.0
PRODID:researchseminars.org
CALSCALE:GREGORIAN
X-WR-CALNAME:researchseminars.org
BEGIN:VEVENT
SUMMARY:Alexey Koshelev (Shanghai Tech)
DTSTART:20240312T080000Z
DTEND:20240312T090000Z
DTSTAMP:20260423T021113Z
UID:Sem24/5
DESCRIPTION:Title: <a href="https://researchseminars.org/talk/Sem24/5/">In
 finite derivative gravity\, String Field Theory and stubs</a>\nby Alexey K
 oshelev (Shanghai Tech) as part of SEU Yau Center Theoretical Physics Semi
 nars 2024\n\nAbstract: TBA\n
LOCATION:https://researchseminars.org/talk/Sem24/5/
END:VEVENT
END:VCALENDAR
