BEGIN:VCALENDAR
VERSION:2.0
PRODID:researchseminars.org
CALSCALE:GREGORIAN
X-WR-CALNAME:researchseminars.org
BEGIN:VEVENT
SUMMARY:Junya Yagi (YMSC Tsinghua)
DTSTART:20240528T080000Z
DTEND:20240528T090000Z
DTSTAMP:20260423T035604Z
UID:Sem24/20
DESCRIPTION:Title: <a href="https://researchseminars.org/talk/Sem24/20/">T
 etrahedron duality</a>\nby Junya Yagi (YMSC Tsinghua) as part of SEU Yau C
 enter Theoretical Physics Seminars 2024\n\nAbstract: TBA\n
LOCATION:https://researchseminars.org/talk/Sem24/20/
END:VEVENT
END:VCALENDAR
