BEGIN:VCALENDAR
VERSION:2.0
PRODID:researchseminars.org
CALSCALE:GREGORIAN
X-WR-CALNAME:researchseminars.org
BEGIN:VEVENT
SUMMARY:Jun Nian (Univ. CAS)
DTSTART:20240618T080000Z
DTEND:20240618T090000Z
DTSTAMP:20260423T035738Z
UID:Sem24/18
DESCRIPTION:Title: <a href="https://researchseminars.org/talk/Sem24/18/">T
 he Quantum Perspectives of Kerr Black Hole Formation and Evaporation</a>\n
 by Jun Nian (Univ. CAS) as part of SEU Yau Center Theoretical Physics Semi
 nars 2024\n\nAbstract: TBA\n
LOCATION:https://researchseminars.org/talk/Sem24/18/
END:VEVENT
END:VCALENDAR
