BEGIN:VCALENDAR
VERSION:2.0
PRODID:researchseminars.org
CALSCALE:GREGORIAN
X-WR-CALNAME:researchseminars.org
BEGIN:VEVENT
SUMMARY:João Caetano (CERN)
DTSTART:20230926T080000Z
DTEND:20230926T090000Z
DTSTAMP:20260423T035719Z
UID:Sem23/19
DESCRIPTION:Title: <a href="https://researchseminars.org/talk/Sem23/19/">L
 arge Charge 't Hooft Limit of N = 4 Super Yang-Mills</a>\nby João Caetano
  (CERN) as part of SEU Yau Center Theoretical Physics Seminars 2023\n\nAbs
 tract: TBA\n
LOCATION:https://researchseminars.org/talk/Sem23/19/
END:VEVENT
END:VCALENDAR
