BEGIN:VCALENDAR
VERSION:2.0
PRODID:researchseminars.org
CALSCALE:GREGORIAN
X-WR-CALNAME:researchseminars.org
BEGIN:VEVENT
SUMMARY:Miguel Paulos (ENS Paris)
DTSTART:20230919T080000Z
DTEND:20230919T090000Z
DTSTAMP:20260423T035709Z
UID:Sem23/18
DESCRIPTION:Title: <a href="https://researchseminars.org/talk/Sem23/18/">S
 olving CFTs? The extremal functional bootstrap</a>\nby Miguel Paulos (ENS 
 Paris) as part of SEU Yau Center Theoretical Physics Seminars 2023\n\nAbst
 ract: TBA\n
LOCATION:https://researchseminars.org/talk/Sem23/18/
END:VEVENT
END:VCALENDAR
