BEGIN:VCALENDAR
VERSION:2.0
PRODID:researchseminars.org
CALSCALE:GREGORIAN
X-WR-CALNAME:researchseminars.org
BEGIN:VEVENT
SUMMARY:Alexandre﻿ ﻿B﻿e﻿l﻿i﻿n (CERN & University of Geneva)
DTSTART:20221025T080000Z
DTEND:20221025T090000Z
DTSTAMP:20260423T021155Z
UID:Sem22/23
DESCRIPTION:Title: <a href="https://researchseminars.org/talk/Sem22/23/">C
 oherent states\, initial data and localizing information in quantum gravit
 y</a>\nby Alexandre﻿ ﻿B﻿e﻿l﻿i﻿n (CERN & University of Geneva) 
 as part of SEU Yau Center Theoretical Physics Seminars 2022\n\nAbstract: T
 BA\n
LOCATION:https://researchseminars.org/talk/Sem22/23/
END:VEVENT
END:VCALENDAR
