BEGIN:VCALENDAR
VERSION:2.0
PRODID:researchseminars.org
CALSCALE:GREGORIAN
X-WR-CALNAME:researchseminars.org
BEGIN:VEVENT
SUMMARY:Shota Komatsu (CERN)
DTSTART:20220607T080000Z
DTEND:20220607T090000Z
DTSTAMP:20260423T035718Z
UID:Sem22/13
DESCRIPTION:Title: <a href="https://researchseminars.org/talk/Sem22/13/">C
 rosscap States in Integrable Field Theories and Spin Chains</a>\nby Shota 
 Komatsu (CERN) as part of SEU Yau Center Theoretical Physics Seminars 2022
 \n\nAbstract: TBA\n
LOCATION:https://researchseminars.org/talk/Sem22/13/
END:VEVENT
END:VCALENDAR
