BEGIN:VCALENDAR
VERSION:2.0
PRODID:researchseminars.org
CALSCALE:GREGORIAN
X-WR-CALNAME:researchseminars.org
BEGIN:VEVENT
SUMMARY:John Cardy (Berkeley)
DTSTART:20211109T010000Z
DTEND:20211109T020000Z
DTSTAMP:20260423T021054Z
UID:Sem21/5
DESCRIPTION:Title: <a href="https://researchseminars.org/talk/Sem21/5/">A 
 Physical Interpretation of the TTbar Deformation of 2d Field Theory</a>\nb
 y John Cardy (Berkeley) as part of SEU Yau Center Theoretical Physics Semi
 nars 2021\n\nAbstract: TBA\n
LOCATION:https://researchseminars.org/talk/Sem21/5/
END:VEVENT
END:VCALENDAR
