BEGIN:VCALENDAR
VERSION:2.0
PRODID:researchseminars.org
CALSCALE:GREGORIAN
X-WR-CALNAME:researchseminars.org
BEGIN:VEVENT
SUMMARY:Carlos Nunez (Swansea)
DTSTART:20220111T070000Z
DTEND:20220111T080000Z
DTSTAMP:20260423T035419Z
UID:Sem21/14
DESCRIPTION:Title: <a href="https://researchseminars.org/talk/Sem21/14/">A
 spects of gauge-strings duality</a>\nby Carlos Nunez (Swansea) as part of 
 SEU Yau Center Theoretical Physics Seminars 2021\n\nAbstract: TBA\n
LOCATION:https://researchseminars.org/talk/Sem21/14/
END:VEVENT
END:VCALENDAR
