BEGIN:VCALENDAR
VERSION:2.0
PRODID:researchseminars.org
CALSCALE:GREGORIAN
X-WR-CALNAME:researchseminars.org
BEGIN:VEVENT
SUMMARY:Hernán González (Adolfo Ibanez)
DTSTART:20211207T110000Z
DTEND:20211207T120000Z
DTSTAMP:20260423T021034Z
UID:Sem21/13
DESCRIPTION:Title: <a href="https://researchseminars.org/talk/Sem21/13/">T
 he structure of IR divergences in celestial gluon amplitudes</a>\nby Hern
 án González (Adolfo Ibanez) as part of SEU Yau Center Theoretical Physic
 s Seminars 2021\n\nAbstract: TBA\n
LOCATION:https://researchseminars.org/talk/Sem21/13/
END:VEVENT
END:VCALENDAR
