BEGIN:VCALENDAR
VERSION:2.0
PRODID:researchseminars.org
CALSCALE:GREGORIAN
X-WR-CALNAME:researchseminars.org
BEGIN:VEVENT
SUMMARY:Fabio Apruzzi (AEC Bern)
DTSTART:20211116T070000Z
DTEND:20211116T080000Z
DTSTAMP:20260423T035416Z
UID:Sem21/11
DESCRIPTION:Title: <a href="https://researchseminars.org/talk/Sem21/11/">2
 -groups in 5d and 6d theories</a>\nby Fabio Apruzzi (AEC Bern) as part of 
 SEU Yau Center Theoretical Physics Seminars 2021\n\nAbstract: TBA\n
LOCATION:https://researchseminars.org/talk/Sem21/11/
END:VEVENT
END:VCALENDAR
