BEGIN:VCALENDAR
VERSION:2.0
PRODID:researchseminars.org
CALSCALE:GREGORIAN
X-WR-CALNAME:researchseminars.org
BEGIN:VEVENT
SUMMARY:Nathan Kutz (University of Washington)
DTSTART:20200701T150000Z
DTEND:20200701T151000Z
DTSTAMP:20260423T040228Z
UID:SciDL/1
DESCRIPTION:Title: <a href="https://researchseminars.org/talk/SciDL/1/">Op
 ening remarks</a>\nby Nathan Kutz (University of Washington) as part of Wo
 rkshop on Scientific-Driven Deep Learning (SciDL)\n\nAbstract: TBA\n
LOCATION:https://researchseminars.org/talk/SciDL/1/
END:VEVENT
END:VCALENDAR
