BEGIN:VCALENDAR
VERSION:2.0
PRODID:researchseminars.org
CALSCALE:GREGORIAN
X-WR-CALNAME:researchseminars.org
BEGIN:VEVENT
SUMMARY:Linden Disney-Hogg (U. Edinburgh)
DTSTART:20220602T160000Z
DTEND:20220602T163000Z
DTSTAMP:20260419T191340Z
UID:SageDays112358/9
DESCRIPTION:Title: <a href="https://researchseminars.org/talk/SageDays1123
 58/9/">Sage GSoC 2021 report: Rigorous integration and the Abel-Jacobi map
 </a>\nby Linden Disney-Hogg (U. Edinburgh) as part of Global Virtual SageD
 ays 112.358\n\n\nAbstract\nThe Abel-Jacobi map is an important constructio
 n in algebraic geometry\, including its application to the theory of integ
 rable systems. I will give an overview of a recent implementation of the m
 ap in Sage\, including some work on improving the integration required\, h
 ighlighting current uses and future extensions.\n
LOCATION:https://researchseminars.org/talk/SageDays112358/9/
END:VEVENT
END:VCALENDAR
