BEGIN:VCALENDAR
VERSION:2.0
PRODID:researchseminars.org
CALSCALE:GREGORIAN
X-WR-CALNAME:researchseminars.org
BEGIN:VEVENT
SUMMARY:Steven Diamond (Gridmatic)
DTSTART:20220601T160000Z
DTEND:20220601T163000Z
DTSTAMP:20260423T051136Z
UID:SageDays112358/6
DESCRIPTION:Title: <a href="https://researchseminars.org/talk/SageDays1123
 58/6/">CVXPY</a>\nby Steven Diamond (Gridmatic) as part of Global Virtual 
 SageDays 112.358\n\n\nAbstract\nCVXPY is a domain-specific language for co
 nvex optimization embedded in Python. It allows the user to express convex
  optimization problems in a natural syntax that follows the math\, rather 
 than in the restrictive standard form required by solvers. CVXPY has been 
 used in hundreds of research projects and by Fortune 500 companies. In thi
 s talk\, we will show how easy it is to formulate and solve optimization p
 roblems with CVXPY through example applications in finance and renewable e
 nergy. We will also highlight exciting recent work building on CVXPY.\n
LOCATION:https://researchseminars.org/talk/SageDays112358/6/
END:VEVENT
END:VCALENDAR
