BEGIN:VCALENDAR
VERSION:2.0
PRODID:researchseminars.org
CALSCALE:GREGORIAN
X-WR-CALNAME:researchseminars.org
BEGIN:VEVENT
SUMMARY:Aaron Landesman (MIT)
DTSTART:20230515T203000Z
DTEND:20230515T220000Z
DTSTAMP:20260422T220124Z
UID:STAGE/84
DESCRIPTION:Title: <a href="https://researchseminars.org/talk/STAGE/84/">C
 anonical models of Shimura varieties</a>\nby Aaron Landesman (MIT) as part
  of STAGE\n\nLecture held in Room 2-449 in the MIT Simons Building.\n\nAbs
 tract\nDefinition of canonical model in Chapter 12\, uniqueness in Chapter
  13\, existence in Chapter 14.\n
LOCATION:https://researchseminars.org/talk/STAGE/84/
END:VEVENT
END:VCALENDAR
