BEGIN:VCALENDAR
VERSION:2.0
PRODID:researchseminars.org
CALSCALE:GREGORIAN
X-WR-CALNAME:researchseminars.org
BEGIN:VEVENT
SUMMARY:Daishi Kiyohara (MIT)
DTSTART:20221122T160000Z
DTEND:20221122T173000Z
DTSTAMP:20260422T220356Z
UID:STAGE/70
DESCRIPTION:Title: <a href="https://researchseminars.org/talk/STAGE/70/">U
 nramified torsors</a>\nby Daishi Kiyohara (MIT) as part of STAGE\n\nLectur
 e held in Room 2-449 in the MIT Simons Building.\n\nAbstract\nTopic: Unram
 ified torsors.\n\nReference: <a href="https://math.mit.edu/~poonen/papers/
 Qpoints.pdf">Poonen\, <i>Rational \npoints on varieties</i></a>\, Section 
 6.5.7.\n
LOCATION:https://researchseminars.org/talk/STAGE/70/
END:VEVENT
END:VCALENDAR
