BEGIN:VCALENDAR
VERSION:2.0
PRODID:researchseminars.org
CALSCALE:GREGORIAN
X-WR-CALNAME:researchseminars.org
BEGIN:VEVENT
SUMMARY:Thomas Rüd (MIT)
DTSTART:20221108T160000Z
DTEND:20221108T173000Z
DTSTAMP:20260422T220135Z
UID:STAGE/68
DESCRIPTION:Title: <a href="https://researchseminars.org/talk/STAGE/68/">T
 orsors over finite fields\, local fields\, and global fields</a>\nby Thoma
 s Rüd (MIT) as part of STAGE\n\nLecture held in Room 2-449 in the MIT Sim
 ons Building.\n\nAbstract\nTopics: Torsors over fields of dimension $\\le 
 1$\; torsors over local fields\; local-global principle for torsors over g
 lobal fields.\n\nReference: <a href="https://math.mit.edu/~poonen/papers/Q
 points.pdf">Poonen\, <i>Rational \npoints on varieties</i></a>\, Sections 
 5.12.6-5.12.8.\n
LOCATION:https://researchseminars.org/talk/STAGE/68/
END:VEVENT
END:VCALENDAR
