BEGIN:VCALENDAR
VERSION:2.0
PRODID:researchseminars.org
CALSCALE:GREGORIAN
X-WR-CALNAME:researchseminars.org
BEGIN:VEVENT
SUMMARY:Anne Larsen (MIT)
DTSTART:20221101T150000Z
DTEND:20221101T163000Z
DTSTAMP:20260422T220302Z
UID:STAGE/67
DESCRIPTION:Title: <a href="https://researchseminars.org/talk/STAGE/67/">T
 orsors of algebraic groups over a field</a>\nby Anne Larsen (MIT) as part 
 of STAGE\n\nLecture held in Room 2-449 in the MIT Simons Building.\n\nAbst
 ract\nTopics: Torsors of groups\; torsors of algebraic groups over a field
 \; examples\; classification by $H^1$\; operations on torsors.\n\nReferenc
 e: <a href="https://math.mit.edu/~poonen/papers/Qpoints.pdf">Poonen\, <i>R
 ational \npoints on varieties</i></a>\, Sections 5.12.1-5.12.5.\n
LOCATION:https://researchseminars.org/talk/STAGE/67/
END:VEVENT
END:VCALENDAR
