BEGIN:VCALENDAR
VERSION:2.0
PRODID:researchseminars.org
CALSCALE:GREGORIAN
X-WR-CALNAME:researchseminars.org
BEGIN:VEVENT
SUMMARY:Vijay Srinivasan (MIT)
DTSTART:20221018T150000Z
DTEND:20221018T163000Z
DTSTAMP:20260422T220124Z
UID:STAGE/65
DESCRIPTION:Title: <a href="https://researchseminars.org/talk/STAGE/65/">T
 he Brauer-Manin obstruction</a>\nby Vijay Srinivasan (MIT) as part of STAG
 E\n\nLecture held in Room 2-449 in the MIT Simons Building.\n\nAbstract\nT
 opics: Brauer evaluation\; Brauer set\; Brauer-Manin obstruction to the lo
 cal-global principle or to weak approximation\; Brauer evaluation is local
 ly constant.\n\nReference: <a href="https://math.mit.edu/~poonen/papers/Qp
 oints.pdf">Poonen\, <i>Rational \npoints on varieties</i></a>\, Sections 8
 .2.1-8.2.4.\n
LOCATION:https://researchseminars.org/talk/STAGE/65/
END:VEVENT
END:VCALENDAR
