BEGIN:VCALENDAR
VERSION:2.0
PRODID:researchseminars.org
CALSCALE:GREGORIAN
X-WR-CALNAME:researchseminars.org
BEGIN:VEVENT
SUMMARY:Tony Feng (MIT)
DTSTART:20220302T150000Z
DTEND:20220302T163000Z
DTSTAMP:20260422T220034Z
UID:STAGE/49
DESCRIPTION:Title: <a href="https://researchseminars.org/talk/STAGE/49/">U
 niform Mordell: review and preview 2</a>\nby Tony Feng (MIT) as part of ST
 AGE\n\nLecture held in Room 2-449 in the MIT Simons Building.\nAbstract: T
 BA\n
LOCATION:https://researchseminars.org/talk/STAGE/49/
END:VEVENT
END:VCALENDAR
