BEGIN:VCALENDAR
VERSION:2.0
PRODID:researchseminars.org
CALSCALE:GREGORIAN
X-WR-CALNAME:researchseminars.org
BEGIN:VEVENT
SUMMARY:Yujie Xu (Harvard)
DTSTART:20211201T160000Z
DTEND:20211201T173000Z
DTSTAMP:20260422T220227Z
UID:STAGE/43
DESCRIPTION:Title: <a href="https://researchseminars.org/talk/STAGE/43/">B
 etti map and Betti form I</a>\nby Yujie Xu (Harvard) as part of STAGE\n\nL
 ecture held in Room 2-449 in the MIT Simons Building.\nAbstract: TBA\n
LOCATION:https://researchseminars.org/talk/STAGE/43/
END:VEVENT
END:VCALENDAR
