BEGIN:VCALENDAR
VERSION:2.0
PRODID:researchseminars.org
CALSCALE:GREGORIAN
X-WR-CALNAME:researchseminars.org
BEGIN:VEVENT
SUMMARY:Nathan Chen (Harvard)
DTSTART:20210929T140000Z
DTEND:20210929T153000Z
DTSTAMP:20260422T220136Z
UID:STAGE/36
DESCRIPTION:Title: <a href="https://researchseminars.org/talk/STAGE/36/">B
 ig and nef line bundles</a>\nby Nathan Chen (Harvard) as part of STAGE\n\n
 Lecture held in Room 2-449 in the MIT Simons Building.\n\nAbstract\nWe wil
 l give a gentle introduction to big and nef line bundles\, with an emphasi
 s on their properties and examples. Reference: Sections 1.4 and 2.2 of <a 
 href="https://link.springer.com/book/10.1007/978-3-642-18808-4">Lazarsfeld
 \, <i>Positivity in algebraic geometry I</i>\, Springer\, 2004</a>.\n\nNon
 -MIT participants must <a href="https://tim-tickets.atlas-apps.mit.edu/wtU
 hZR3mG7gMZjr16">click here</a> to get a "Tim Ticket" well in advance\; thi
 s is <i>required</i> for access to the seminar.\n
LOCATION:https://researchseminars.org/talk/STAGE/36/
END:VEVENT
END:VCALENDAR
