BEGIN:VCALENDAR
VERSION:2.0
PRODID:researchseminars.org
CALSCALE:GREGORIAN
X-WR-CALNAME:researchseminars.org
BEGIN:VEVENT
SUMMARY:Shizhang Li (University of Michigan)
DTSTART:20210521T170000Z
DTEND:20210521T183000Z
DTSTAMP:20260422T220354Z
UID:STAGE/34
DESCRIPTION:Title: <a href="https://researchseminars.org/talk/STAGE/34/">T
 he étale comparison theorem</a>\nby Shizhang Li (University of Michigan) 
 as part of STAGE\n\n\nAbstract\nReferences: Lecture IX of <a href="http://
 www-personal.umich.edu/~bhattb/teaching/prismatic-columbia/">Bhatt's notes
 </a>.  For more details\, see the <a href="https://arxiv.org/abs/1905.0822
 9">Bhatt-Scholze paper</a>.\n
LOCATION:https://researchseminars.org/talk/STAGE/34/
END:VEVENT
END:VCALENDAR
