BEGIN:VCALENDAR
VERSION:2.0
PRODID:researchseminars.org
CALSCALE:GREGORIAN
X-WR-CALNAME:researchseminars.org
BEGIN:VEVENT
SUMMARY:Zhiyu Zhang
DTSTART:20210514T170000Z
DTEND:20210514T183000Z
DTSTAMP:20260422T220228Z
UID:STAGE/33
DESCRIPTION:Title: <a href="https://researchseminars.org/talk/STAGE/33/">P
 erfections in mixed characteristic</a>\nby Zhiyu Zhang as part of STAGE\n\
 n\nAbstract\nReferences: Lecture VIII of <a href="http://www-personal.umic
 h.edu/~bhattb/teaching/prismatic-columbia/">Bhatt's notes</a>.  For more d
 etails\, see the <a href="https://arxiv.org/abs/1905.08229">Bhatt-Scholze 
 paper</a>.\n
LOCATION:https://researchseminars.org/talk/STAGE/33/
END:VEVENT
END:VCALENDAR
