BEGIN:VCALENDAR
VERSION:2.0
PRODID:researchseminars.org
CALSCALE:GREGORIAN
X-WR-CALNAME:researchseminars.org
BEGIN:VEVENT
SUMMARY:Alexander Petrov
DTSTART:20200415T140000Z
DTEND:20200415T153000Z
DTSTAMP:20260422T220034Z
UID:STAGE/2
DESCRIPTION:Title: <a href="https://researchseminars.org/talk/STAGE/2/">$p
 $-adic modular forms on Hilbert modular varieties</a>\nby Alexander Petrov
  as part of STAGE\n\n\nAbstract\nWe will define $p$-adic Hilbert modular f
 orms via level $p^{\\infty}$ formal Hilbert modular schemes and study the 
 relative de Rham cohomology over that scheme using the Frobenius endomorph
 ism.\n
LOCATION:https://researchseminars.org/talk/STAGE/2/
END:VEVENT
END:VCALENDAR
