BEGIN:VCALENDAR
VERSION:2.0
PRODID:researchseminars.org
CALSCALE:GREGORIAN
X-WR-CALNAME:researchseminars.org
BEGIN:VEVENT
SUMMARY:Xinyu Fang (Harvard)
DTSTART:20240916T143000Z
DTEND:20240916T160000Z
DTSTAMP:20260422T220033Z
UID:STAGE/111
DESCRIPTION:Title: <a href="https://researchseminars.org/talk/STAGE/111/">
 Local systems\, fundamental groupoid\, definition of connection</a>\nby Xi
 nyu Fang (Harvard) as part of STAGE\n\nLecture held in Room 2-449 in the M
 IT Simons Building.\n\nAbstract\nThe definition of local systems vs. vecto
 r bundles.  Definition of the fundamental group and fundamental groupoid o
 f a nice topological space.  Statement of equivalence between the category
  of local systems and the category of finite-dimensional representations o
 f the fundamental group.  Definition of connection on a vector bundle.\n\n
 Reference: Deligne\, up to Section 2.9.\n
LOCATION:https://researchseminars.org/talk/STAGE/111/
END:VEVENT
END:VCALENDAR
