BEGIN:VCALENDAR
VERSION:2.0
PRODID:researchseminars.org
CALSCALE:GREGORIAN
X-WR-CALNAME:researchseminars.org
BEGIN:VEVENT
SUMMARY:Daniel Larsen (Massachusetts Institute of Technology)
DTSTART:20240425T200000Z
DTEND:20240425T213000Z
DTSTAMP:20260422T220548Z
UID:STAGE/108
DESCRIPTION:Title: <a href="https://researchseminars.org/talk/STAGE/108/">
 The large sieve</a>\nby Daniel Larsen (Massachusetts Institute of Technolo
 gy) as part of STAGE\n\nLecture held in Room 2-131 in the MIT Simons Build
 ing.\n\nAbstract\nIn this talk\, we will prove a version of the large siev
 e inequality\, a result from analytic number theory that will eventually b
 e used to give bounds on thin sets. Along the way\, we will prove the Dave
 nport-Halberstam theorem and generally try to understand how the support o
 f a function's Fourier transform influences the function's behavior.\n\nRe
 ference: Chapter 12 of Serre\, Lectures on the Mordell-Weil theorem.\nWear
 ing a mask is welcomed\, but optional.\n
LOCATION:https://researchseminars.org/talk/STAGE/108/
END:VEVENT
END:VCALENDAR
