BEGIN:VCALENDAR
VERSION:2.0
PRODID:researchseminars.org
CALSCALE:GREGORIAN
X-WR-CALNAME:researchseminars.org
BEGIN:VEVENT
SUMMARY:Kazumasa A. Takeuchi (Univ. of Tokyo)
DTSTART:20220927T040000Z
DTEND:20220927T070000Z
DTSTAMP:20260423T022923Z
UID:SQP2022/5
DESCRIPTION:Title: <a href="https://researchseminars.org/talk/SQP2022/5/">
 Kardar-Parisi-Zhang universality class</a>\nby Kazumasa A. Takeuchi (Univ.
  of Tokyo) as part of Stat&QuantPhys Autumn School 2022 (SQP2022)\n\nAbstr
 act: TBA\n
LOCATION:https://researchseminars.org/talk/SQP2022/5/
END:VEVENT
END:VCALENDAR
