BEGIN:VCALENDAR
VERSION:2.0
PRODID:researchseminars.org
CALSCALE:GREGORIAN
X-WR-CALNAME:researchseminars.org
BEGIN:VEVENT
SUMMARY:Tomotaka Kuwahara (RIKEN)
DTSTART:20220927T000000Z
DTEND:20220927T030000Z
DTSTAMP:20260423T022924Z
UID:SQP2022/4
DESCRIPTION:Title: <a href="https://researchseminars.org/talk/SQP2022/4/">
 Lieb-Robinson bound and its applications</a>\nby Tomotaka Kuwahara (RIKEN)
  as part of Stat&QuantPhys Autumn School 2022 (SQP2022)\n\nAbstract: TBA\n
LOCATION:https://researchseminars.org/talk/SQP2022/4/
END:VEVENT
END:VCALENDAR
