BEGIN:VCALENDAR
VERSION:2.0
PRODID:researchseminars.org
CALSCALE:GREGORIAN
X-WR-CALNAME:researchseminars.org
BEGIN:VEVENT
SUMMARY:Neill Lambert (RIKEN)
DTSTART:20210928T040000Z
DTEND:20210928T070000Z
DTSTAMP:20260421T090050Z
UID:SQP2021/5
DESCRIPTION:Title: <a href="https://researchseminars.org/talk/SQP2021/5/">
 Open Quantum Systems: from qubits to quantum biology</a>\nby Neill Lambert
  (RIKEN) as part of Stat&QuantPhys Autumn School (SQP2021)\n\nAbstract: TB
 A\n
LOCATION:https://researchseminars.org/talk/SQP2021/5/
END:VEVENT
END:VCALENDAR
