BEGIN:VCALENDAR
VERSION:2.0
PRODID:researchseminars.org
CALSCALE:GREGORIAN
X-WR-CALNAME:researchseminars.org
BEGIN:VEVENT
SUMMARY:Ajay Chandra (Imperial College London)
DTSTART:20210531T090000Z
DTEND:20210531T100000Z
DTSTAMP:20260423T005731Z
UID:SPDEs/7
DESCRIPTION:Title: <a href="https://researchseminars.org/talk/SPDEs/7/">St
 ochastic Quantization of Yang Mills</a>\nby Ajay Chandra (Imperial College
  London) as part of Stochastic PDEs and their friends\n\n\nAbstract\nI wil
 l result some recent work along with work in progress on the construction 
 of a stochastic dynamic and a corresponding state space that in principle 
 should have the Yang Mills Euclidean quantum field theory as its invariant
  measure. This is joint work with Ilya Chevyrev\, Martin Hairer\, and Hao 
 Shen.\n
LOCATION:https://researchseminars.org/talk/SPDEs/7/
END:VEVENT
END:VCALENDAR
