BEGIN:VCALENDAR
VERSION:2.0
PRODID:researchseminars.org
CALSCALE:GREGORIAN
X-WR-CALNAME:researchseminars.org
BEGIN:VEVENT
SUMMARY:Nicolai Krylov (University of Minnesota)
DTSTART:20210602T140000Z
DTEND:20210602T150000Z
DTSTAMP:20260423T005729Z
UID:SPDEs/5
DESCRIPTION:Title: <a href="https://researchseminars.org/talk/SPDEs/5/">On
  diffusion processes with drift in a Morrey class containing Ld+2</a>\nby 
 Nicolai Krylov (University of Minnesota) as part of Stochastic PDEs and th
 eir friends\n\n\nAbstract\nWe present new conditions on the drift of the M
 orrey type with mixed norms allowing us to obtain Aleksandrov type estimat
 es of potentials of time inhomogeneous diffusion processes in spaces with 
 mixed norms.\n
LOCATION:https://researchseminars.org/talk/SPDEs/5/
END:VEVENT
END:VCALENDAR
